BEGIN:VCALENDAR
PRODID:FCEmbrachSpielplan
VERSION:2.0
METHOD:PUBLISH
CALNAME:SpieleFCE
BEGIN:VEVENT
DTSTART:20260328T090000Z
DTEND:20260328T110000Z
DTSTAMP:20260424T100149Z
UID:6c9410ac-cdb4-409d-8d33-935e2c09442e
CREATED:20260424T100149Z
LAST-MODIFIED:20260424T100149Z
LOCATION:Schwarzbrünneli, Feuerthalen - Platz 1
SEQUENCE:0
STATUS:CONFIRMED
CLASS:PRIVATE
SUMMARY:Cholfirst United a, FC Brüttisellen-Dietlikon a - E-Pool 1
CATEGORIES:Fussball
TRANSP:OPAQUE
END:VEVENT
BEGIN:VEVENT
DTSTART:20260411T080000Z
DTEND:20260411T100000Z
DTSTAMP:20260424T100149Z
UID:9a525138-2649-4e46-a05e-1c195fc88fda
CREATED:20260424T100149Z
LAST-MODIFIED:20260424T100149Z
LOCATION:Raiffeisen Weinland Arena , Marthalen - Platz 2
SEQUENCE:0
STATUS:CONFIRMED
CLASS:PRIVATE
SUMMARY:FC Ellikon Marthalen a, FC Pfäffikon a, FC Glattbrugg a, FC Embrach a - E-Pool 1
CATEGORIES:Fussball
TRANSP:OPAQUE
END:VEVENT
BEGIN:VEVENT
DTSTART:20260509T100000Z
DTEND:20260509T120000Z
DTSTAMP:20260424T100149Z
UID:44da23b1-044d-49ee-9ee7-186528a3b940
CREATED:20260424T100149Z
LAST-MODIFIED:20260424T100149Z
LOCATION:Im Bilg, Embrach - Platz 1
SEQUENCE:0
STATUS:CONFIRMED
CLASS:PRIVATE
SUMMARY:E-Pool 1 - FC Embrach a, FC Wallisellen b, FC Wallisellen a, FC Winterthur U10 Schützi
CATEGORIES:Fussball
TRANSP:OPAQUE
END:VEVENT
BEGIN:VEVENT
DTSTART:20260516T110000Z
DTEND:20260516T130000Z
DTSTAMP:20260424T100149Z
UID:5cfa9a1c-b8cb-4d14-b0fa-fa981dc6feec
CREATED:20260424T100149Z
LAST-MODIFIED:20260424T100149Z
LOCATION:Gmeiwerch, Turbenthal - Platz 1
SEQUENCE:0
STATUS:CONFIRMED
CLASS:PRIVATE
SUMMARY:SC Winterthur United, FC Wiesendangen a, FC Wülflingen a, FC Embrach a - E-Pool 1
CATEGORIES:Fussball
TRANSP:OPAQUE
END:VEVENT
BEGIN:VEVENT
DTSTART:20260530T080000Z
DTEND:20260530T100000Z
DTSTAMP:20260424T100149Z
UID:7ff4dfc8-7186-4ff2-9342-af8573e8ff4e
CREATED:20260424T100149Z
LAST-MODIFIED:20260424T100149Z
LOCATION:Sporrer, Winterthur - Platz 3 (Kunstrasen)
SEQUENCE:0
STATUS:CONFIRMED
CLASS:PRIVATE
SUMMARY:FC Wülflingen a, FC Wallisellen b, FC Wallisellen a, FC Embrach a - E-Pool 1
CATEGORIES:Fussball
TRANSP:OPAQUE
END:VEVENT
BEGIN:VEVENT
DTSTART:20260606T080000Z
DTEND:20260606T100000Z
DTSTAMP:20260424T100149Z
UID:17a1f041-8399-473e-800e-d938a11dee2c
CREATED:20260424T100149Z
LAST-MODIFIED:20260424T100149Z
LOCATION:Im Bilg, Embrach - Platz 1
SEQUENCE:0
STATUS:CONFIRMED
CLASS:PRIVATE
SUMMARY:E-Pool 1 - FC Embrach a, SC Winterthur United, FC Wiesendangen a, FC Brüttisellen-Dietlikon a
CATEGORIES:Fussball
TRANSP:OPAQUE
END:VEVENT
BEGIN:VEVENT
DTSTART:20260620T080000Z
DTEND:20260620T100000Z
DTSTAMP:20260424T100149Z
UID:18d74895-9593-4458-bab4-2423004351c7
CREATED:20260424T100149Z
LAST-MODIFIED:20260424T100149Z
LOCATION:Sporrer, Winterthur - Platz 3 (Kunstrasen)
SEQUENCE:0
STATUS:CONFIRMED
CLASS:PRIVATE
SUMMARY:FC Wülflingen a, FC Effretikon a, FC Embrach a, FC Glattbrugg a - E-Pool 1
CATEGORIES:Fussball
TRANSP:OPAQUE
END:VEVENT
END:VCALENDAR
