BEGIN:VCALENDAR
PRODID:FCEmbrachSpielplan
VERSION:2.0
METHOD:PUBLISH
CALNAME:SpieleFCE
BEGIN:VEVENT
DTSTART:20250820T180000Z
DTEND:20250820T200000Z
DTSTAMP:20260420T100937Z
UID:d7a2ec5c-b3cc-4f31-8815-527a6e56030c
CREATED:20260420T100937Z
LAST-MODIFIED:20260420T100937Z
LOCATION:Im Bilg, Embrach - Platz 1
SEQUENCE:0
STATUS:CONFIRMED
CLASS:PRIVATE
SUMMARY:Junioren Ba - FC Seuzach a
CATEGORIES:Fussball
TRANSP:OPAQUE
END:VEVENT
BEGIN:VEVENT
DTSTART:20250824T103000Z
DTEND:20250824T123000Z
DTSTAMP:20260420T100937Z
UID:84d65fed-d04e-4ed6-9e9a-0e0727ff7236
CREATED:20260420T100937Z
LAST-MODIFIED:20260420T100937Z
LOCATION:Im Bilg, Embrach - Platz 2
SEQUENCE:0
STATUS:CONFIRMED
CLASS:PRIVATE
SUMMARY:Junioren Ba - FC Kloten a
CATEGORIES:Fussball
TRANSP:OPAQUE
END:VEVENT
BEGIN:VEVENT
DTSTART:20250831T120000Z
DTEND:20250831T140000Z
DTSTAMP:20260420T100937Z
UID:d0f6aed8-5f61-4ece-928c-66ded93849f4
CREATED:20260420T100937Z
LAST-MODIFIED:20260420T100937Z
LOCATION:Wisacher, Regensdorf - Platzzuteilung erfolgt vor Ort
SEQUENCE:0
STATUS:CONFIRMED
CLASS:PRIVATE
SUMMARY:FC Regensdorf b - Junioren Ba
CATEGORIES:Fussball
TRANSP:OPAQUE
END:VEVENT
BEGIN:VEVENT
DTSTART:20250907T120000Z
DTEND:20250907T140000Z
DTSTAMP:20260420T100937Z
UID:e37cf5c4-9d3f-466f-97dc-b4364478abb8
CREATED:20260420T100937Z
LAST-MODIFIED:20260420T100937Z
LOCATION:Im Bilg, Embrach - Platz 3 Kunstrasen
SEQUENCE:0
STATUS:CONFIRMED
CLASS:PRIVATE
SUMMARY:Junioren Ba - Centro Lusitano Zurich
CATEGORIES:Fussball
TRANSP:OPAQUE
END:VEVENT
BEGIN:VEVENT
DTSTART:20250910T180000Z
DTEND:20250910T200000Z
DTSTAMP:20260420T100937Z
UID:0bbb900f-603e-4b55-af11-8a9e3e8b78dd
CREATED:20260420T100937Z
LAST-MODIFIED:20260420T100937Z
LOCATION:Im Bilg, Embrach - Platz 2
SEQUENCE:0
STATUS:CONFIRMED
CLASS:PRIVATE
SUMMARY:Junioren Ba - FC Männedorf a
CATEGORIES:Fussball
TRANSP:OPAQUE
END:VEVENT
BEGIN:VEVENT
DTSTART:20250914T130000Z
DTEND:20250914T150000Z
DTSTAMP:20260420T100937Z
UID:0e812c73-ab87-43da-a618-b1400cf4bcff
CREATED:20260420T100937Z
LAST-MODIFIED:20260420T100937Z
LOCATION:Steinacker, Winterthur - Platz 2
SEQUENCE:0
STATUS:CONFIRMED
CLASS:PRIVATE
SUMMARY:FC Phönix Seen b - Junioren Ba
CATEGORIES:Fussball
TRANSP:OPAQUE
END:VEVENT
BEGIN:VEVENT
DTSTART:20250928T103000Z
DTEND:20250928T123000Z
DTSTAMP:20260420T100937Z
UID:2507f397-102a-4414-afac-ec945d298696
CREATED:20260420T100937Z
LAST-MODIFIED:20260420T100937Z
LOCATION:Im Bilg, Embrach - Platz 3 Kunstrasen
SEQUENCE:0
STATUS:CONFIRMED
CLASS:PRIVATE
SUMMARY:Junioren Ba - FC Oberwinterthur *
CATEGORIES:Fussball
TRANSP:OPAQUE
END:VEVENT
BEGIN:VEVENT
DTSTART:20251001T180000Z
DTEND:20251001T200000Z
DTSTAMP:20260420T100937Z
UID:03c521a0-e0f5-4dcd-9c04-1d5b824d7cec
CREATED:20260420T100937Z
LAST-MODIFIED:20260420T100937Z
LOCATION:Im Bilg, Embrach - Platz 1
SEQUENCE:0
STATUS:CONFIRMED
CLASS:PRIVATE
SUMMARY:Junioren Ba - FC Hinwil a
CATEGORIES:Fussball
TRANSP:OPAQUE
END:VEVENT
BEGIN:VEVENT
DTSTART:20251008T181500Z
DTEND:20251008T201500Z
DTSTAMP:20260420T100937Z
UID:50f63c27-26c5-4e4f-bd36-0f0ce50037e2
CREATED:20260420T100937Z
LAST-MODIFIED:20260420T100937Z
LOCATION:bxa Sport und Freizeit Anlage, Bassersdorf - Platzzuteilung erfolgt vor Ort
SEQUENCE:0
STATUS:CONFIRMED
CLASS:PRIVATE
SUMMARY:FC Bassersdorf a - Junioren Ba
CATEGORIES:Fussball
TRANSP:OPAQUE
END:VEVENT
BEGIN:VEVENT
DTSTART:20251019T110000Z
DTEND:20251019T130000Z
DTSTAMP:20260420T100937Z
UID:3808d0b0-bc12-448d-baaa-574e224cdfd3
CREATED:20260420T100937Z
LAST-MODIFIED:20260420T100937Z
LOCATION:Im Bilg, Embrach - Platz 3 Kunstrasen
SEQUENCE:0
STATUS:CONFIRMED
CLASS:PRIVATE
SUMMARY:Junioren Ba - FC Buchs-Dällikon
CATEGORIES:Fussball
TRANSP:OPAQUE
END:VEVENT
BEGIN:VEVENT
DTSTART:20251026T161500Z
DTEND:20251026T181500Z
DTSTAMP:20260420T100937Z
UID:e0076db4-e854-4051-9a95-0b45acaaf285
CREATED:20260420T100937Z
LAST-MODIFIED:20260420T100937Z
LOCATION:Erachfeld, Bülach - Platzzuteilung erfolgt vor Ort
SEQUENCE:0
STATUS:CONFIRMED
CLASS:PRIVATE
SUMMARY:FC Bülach b - Junioren Ba
CATEGORIES:Fussball
TRANSP:OPAQUE
END:VEVENT
BEGIN:VEVENT
DTSTART:20251102T113000Z
DTEND:20251102T133000Z
DTSTAMP:20260420T100937Z
UID:6cdf55d0-ee78-4048-8eab-08e6f25d5055
CREATED:20260420T100937Z
LAST-MODIFIED:20260420T100937Z
LOCATION:Im Bilg, Embrach - Platz 3 Kunstrasen
SEQUENCE:0
STATUS:CONFIRMED
CLASS:PRIVATE
SUMMARY:Junioren Ba - FC Seuzach a
CATEGORIES:Fussball
TRANSP:OPAQUE
END:VEVENT
BEGIN:VEVENT
DTSTART:20251109T150000Z
DTEND:20251109T170000Z
DTSTAMP:20260420T100937Z
UID:3076af0d-c18a-4672-9800-c8cbdfb9e674
CREATED:20260420T100937Z
LAST-MODIFIED:20260420T100937Z
LOCATION:Griespark, Volketswil - Gries 3 (Kunstrasen)
SEQUENCE:0
STATUS:CONFIRMED
CLASS:PRIVATE
SUMMARY:FC Volketswil b - Junioren Ba
CATEGORIES:Fussball
TRANSP:OPAQUE
END:VEVENT
BEGIN:VEVENT
DTSTART:20260308T120000Z
DTEND:20260308T140000Z
DTSTAMP:20260420T100937Z
UID:cd192c7f-b656-4c7b-ad99-ff53d603d5d6
CREATED:20260420T100937Z
LAST-MODIFIED:20260420T100937Z
LOCATION:Schweizersbild, Schaffhausen - Platz 2 (Kunstrasen)
SEQUENCE:0
STATUS:CONFIRMED
CLASS:PRIVATE
SUMMARY:Sporting Club Schaffhausen a - Junioren Ba
CATEGORIES:Fussball
TRANSP:OPAQUE
END:VEVENT
BEGIN:VEVENT
DTSTART:20260314T133000Z
DTEND:20260314T153000Z
DTSTAMP:20260420T100937Z
UID:d34cbdf7-1949-4121-81f5-87c703477b90
CREATED:20260420T100937Z
LAST-MODIFIED:20260420T100937Z
LOCATION:Im Bilg, Embrach - Platz 3 Kunstrasen
SEQUENCE:0
STATUS:CONFIRMED
CLASS:PRIVATE
SUMMARY:Junioren Ba - FC Glattfelden
CATEGORIES:Fussball
TRANSP:OPAQUE
END:VEVENT
BEGIN:VEVENT
DTSTART:20260322T113000Z
DTEND:20260322T133000Z
DTSTAMP:20260420T100937Z
UID:44823bb5-260e-42bc-a85b-cec4c19a73ad
CREATED:20260420T100937Z
LAST-MODIFIED:20260420T100937Z
LOCATION:Im Bilg, Embrach - Platz 3 Kunstrasen
SEQUENCE:0
STATUS:CONFIRMED
CLASS:PRIVATE
SUMMARY:Junioren Ba - FC Bülach b
CATEGORIES:Fussball
TRANSP:OPAQUE
END:VEVENT
BEGIN:VEVENT
DTSTART:20260329T090000Z
DTEND:20260329T110000Z
DTSTAMP:20260420T100937Z
UID:ba0d7332-dcca-4816-9668-30c8fc090aa8
CREATED:20260420T100937Z
LAST-MODIFIED:20260420T100937Z
LOCATION:Dürrbach, Wangen bei Dübendorf - Platz 2 (Kunstrasen)
SEQUENCE:0
STATUS:CONFIRMED
CLASS:PRIVATE
SUMMARY:FC Brüttisellen-Dietlikon - Junioren Ba
CATEGORIES:Fussball
TRANSP:OPAQUE
END:VEVENT
BEGIN:VEVENT
DTSTART:20260412T110000Z
DTEND:20260412T130000Z
DTSTAMP:20260420T100937Z
UID:a209dd82-cb84-4ace-8e9f-a68433b696f0
CREATED:20260420T100937Z
LAST-MODIFIED:20260420T100937Z
LOCATION:Im Bilg, Embrach - Platz 3 Kunstrasen
SEQUENCE:0
STATUS:CONFIRMED
CLASS:PRIVATE
SUMMARY:Junioren Ba - FC Wallisellen
CATEGORIES:Fussball
TRANSP:OPAQUE
END:VEVENT
BEGIN:VEVENT
DTSTART:20260505T181500Z
DTEND:20260505T201500Z
DTSTAMP:20260420T100937Z
UID:585446d3-5573-4390-8f48-53ab86b28fb2
CREATED:20260420T100937Z
LAST-MODIFIED:20260420T100937Z
LOCATION:Grafstal, Rikonerstrasse, Grafstal - Platzzuteilung erfolgt vor Ort
SEQUENCE:0
STATUS:CONFIRMED
CLASS:PRIVATE
SUMMARY:FC Kempttal - Junioren Ba
CATEGORIES:Fussball
TRANSP:OPAQUE
END:VEVENT
BEGIN:VEVENT
DTSTART:20260510T103000Z
DTEND:20260510T123000Z
DTSTAMP:20260420T100937Z
UID:ac416562-f5f3-41e1-b68b-712d9532a839
CREATED:20260420T100937Z
LAST-MODIFIED:20260420T100937Z
LOCATION:Im Bilg, Embrach - Platz 1
SEQUENCE:0
STATUS:CONFIRMED
CLASS:PRIVATE
SUMMARY:Junioren Ba - FC Kloten a
CATEGORIES:Fussball
TRANSP:OPAQUE
END:VEVENT
BEGIN:VEVENT
DTSTART:20260517T090000Z
DTEND:20260517T110000Z
DTSTAMP:20260420T100937Z
UID:9f2fe640-cc1d-4048-87d9-65089ad73a6d
CREATED:20260420T100937Z
LAST-MODIFIED:20260420T100937Z
LOCATION:Steinacker, Winterthur - Platz 2
SEQUENCE:0
STATUS:CONFIRMED
CLASS:PRIVATE
SUMMARY:FC Phönix Seen b - Junioren Ba
CATEGORIES:Fussball
TRANSP:OPAQUE
END:VEVENT
BEGIN:VEVENT
DTSTART:20260526T220000Z
DTEND:20260527T000000Z
DTSTAMP:20260420T100937Z
UID:3ee2392e-24ae-4f32-9b86-be044997d388
CREATED:20260420T100937Z
LAST-MODIFIED:20260420T100937Z
LOCATION:Im Bilg, Embrach - Platz 1
SEQUENCE:0
STATUS:CONFIRMED
CLASS:PRIVATE
SUMMARY:Junioren Ba - FC Bassersdorf a
CATEGORIES:Fussball
TRANSP:OPAQUE
END:VEVENT
BEGIN:VEVENT
DTSTART:20260531T110000Z
DTEND:20260531T130000Z
DTSTAMP:20260420T100937Z
UID:a93b082c-f9fb-427d-9991-56ef2d4b717e
CREATED:20260420T100937Z
LAST-MODIFIED:20260420T100937Z
LOCATION:Hegmatten, Winterthur - Platzzuteilung erfolgt vor Ort
SEQUENCE:0
STATUS:CONFIRMED
CLASS:PRIVATE
SUMMARY:FC Oberwinterthur * - Junioren Ba
CATEGORIES:Fussball
TRANSP:OPAQUE
END:VEVENT
BEGIN:VEVENT
DTSTART:20260607T110000Z
DTEND:20260607T130000Z
DTSTAMP:20260420T100937Z
UID:e2595952-1d60-4e69-986d-e2f584ac4c68
CREATED:20260420T100937Z
LAST-MODIFIED:20260420T100937Z
LOCATION:Im Bilg, Embrach - Platz 2
SEQUENCE:0
STATUS:CONFIRMED
CLASS:PRIVATE
SUMMARY:Junioren Ba - FC Diessenhofen
CATEGORIES:Fussball
TRANSP:OPAQUE
END:VEVENT
BEGIN:VEVENT
DTSTART:20260621T090000Z
DTEND:20260621T110000Z
DTSTAMP:20260420T100937Z
UID:386ee3ab-81e5-4f8f-9caa-d8419e005232
CREATED:20260420T100937Z
LAST-MODIFIED:20260420T100937Z
LOCATION:Heerenschürli, Zürich - Platzzuteilung erfolgt vor Ort
SEQUENCE:0
STATUS:CONFIRMED
CLASS:PRIVATE
SUMMARY:FC Schwamendingen a - Junioren Ba
CATEGORIES:Fussball
TRANSP:OPAQUE
END:VEVENT
END:VCALENDAR
