BEGIN:VCALENDAR
PRODID:FCEmbrachSpielplan
VERSION:2.0
METHOD:PUBLISH
CALNAME:SpieleFCE
BEGIN:VEVENT
DTSTART:20250823T080000Z
DTEND:20250823T100000Z
DTSTAMP:20260420T100915Z
UID:d30553ab-099c-4149-86dc-63d196445263
CREATED:20260420T100915Z
LAST-MODIFIED:20260420T100915Z
LOCATION:Im Bilg, Embrach - Platz E
SEQUENCE:0
STATUS:CONFIRMED
CLASS:PRIVATE
SUMMARY:Junioren D7a - FC Schaffhausen b
CATEGORIES:Fussball
TRANSP:OPAQUE
END:VEVENT
BEGIN:VEVENT
DTSTART:20250830T080000Z
DTEND:20250830T100000Z
DTSTAMP:20260420T100915Z
UID:65efd7bf-a59c-48fb-a717-29ff14522a58
CREATED:20260420T100915Z
LAST-MODIFIED:20260420T100915Z
LOCATION:Laupenstrasse, Wald - Platzzuteilung erfolgt vor Ort
SEQUENCE:0
STATUS:CONFIRMED
CLASS:PRIVATE
SUMMARY:FC Wald a - Junioren D7a
CATEGORIES:Fussball
TRANSP:OPAQUE
END:VEVENT
BEGIN:VEVENT
DTSTART:20250906T090000Z
DTEND:20250906T110000Z
DTSTAMP:20260420T100915Z
UID:9ce9e1d8-953b-44bc-8577-fb4e30770e1f
CREATED:20260420T100915Z
LAST-MODIFIED:20260420T100915Z
LOCATION:Im Bilg, Embrach - Platz E
SEQUENCE:0
STATUS:CONFIRMED
CLASS:PRIVATE
SUMMARY:Junioren D7a - FC Bülach e
CATEGORIES:Fussball
TRANSP:OPAQUE
END:VEVENT
BEGIN:VEVENT
DTSTART:20250913T080000Z
DTEND:20250913T100000Z
DTSTAMP:20260420T100915Z
UID:2e2975a2-3659-408c-878e-becbdd78081a
CREATED:20260420T100915Z
LAST-MODIFIED:20260420T100915Z
LOCATION:Primarschule Hettlingen, Hettlingen - Schulwiese
SEQUENCE:0
STATUS:CONFIRMED
CLASS:PRIVATE
SUMMARY:FC Seuzach a - Junioren D7a
CATEGORIES:Fussball
TRANSP:OPAQUE
END:VEVENT
BEGIN:VEVENT
DTSTART:20250927T083000Z
DTEND:20250927T103000Z
DTSTAMP:20260420T100915Z
UID:a74d3477-b7ac-4c29-a8d2-218a729cc01b
CREATED:20260420T100915Z
LAST-MODIFIED:20260420T100915Z
LOCATION:Im Bilg, Embrach - Platz E
SEQUENCE:0
STATUS:CONFIRMED
CLASS:PRIVATE
SUMMARY:Junioren D7a - FC Wetzikon a
CATEGORIES:Fussball
TRANSP:OPAQUE
END:VEVENT
BEGIN:VEVENT
DTSTART:20251018T090000Z
DTEND:20251018T110000Z
DTSTAMP:20260420T100915Z
UID:be85f23e-2a91-450a-a360-bcc6185cd81d
CREATED:20260420T100915Z
LAST-MODIFIED:20260420T100915Z
LOCATION:Hüssenbüel, Hinwil - Platz B (Kunstrasen)
SEQUENCE:0
STATUS:CONFIRMED
CLASS:PRIVATE
SUMMARY:FC Hinwil a - Junioren D7a
CATEGORIES:Fussball
TRANSP:OPAQUE
END:VEVENT
BEGIN:VEVENT
DTSTART:20251101T100000Z
DTEND:20251101T120000Z
DTSTAMP:20260420T100915Z
UID:a3542699-751f-448d-9f53-bac8eae8d0a1
CREATED:20260420T100915Z
LAST-MODIFIED:20260420T100915Z
LOCATION:Im Bilg, Embrach - Platz E
SEQUENCE:0
STATUS:CONFIRMED
CLASS:PRIVATE
SUMMARY:Junioren D7a - FC Dielsdorf a
CATEGORIES:Fussball
TRANSP:OPAQUE
END:VEVENT
BEGIN:VEVENT
DTSTART:20251108T130000Z
DTEND:20251108T150000Z
DTSTAMP:20260420T100915Z
UID:011d6d8f-1a85-4761-b982-41c6dc1049c8
CREATED:20260420T100915Z
LAST-MODIFIED:20260420T100915Z
LOCATION:Bahnhof/Eichen, Hüntwangen - Bahnhof
SEQUENCE:0
STATUS:CONFIRMED
CLASS:PRIVATE
SUMMARY:FC Rafzerfeld a - Junioren D7a
CATEGORIES:Fussball
TRANSP:OPAQUE
END:VEVENT
BEGIN:VEVENT
DTSTART:20251115T130000Z
DTEND:20251115T150000Z
DTSTAMP:20260420T100915Z
UID:1a75b9e2-424e-46ed-be0c-af0e82589862
CREATED:20260420T100915Z
LAST-MODIFIED:20260420T100915Z
LOCATION:Im Bilg, Embrach - Platz E
SEQUENCE:0
STATUS:CONFIRMED
CLASS:PRIVATE
SUMMARY:Junioren D7a - FC Dübendorf d
CATEGORIES:Fussball
TRANSP:OPAQUE
END:VEVENT
BEGIN:VEVENT
DTSTART:20260321T134500Z
DTEND:20260321T154500Z
DTSTAMP:20260420T100915Z
UID:cb8f728a-8966-4f9a-b5f5-65f4648ae556
CREATED:20260420T100915Z
LAST-MODIFIED:20260420T100915Z
LOCATION:Im Bilg, Embrach - Platz E
SEQUENCE:0
STATUS:CONFIRMED
CLASS:PRIVATE
SUMMARY:Junioren D7a - FC Stäfa 1895 b
CATEGORIES:Fussball
TRANSP:OPAQUE
END:VEVENT
BEGIN:VEVENT
DTSTART:20260328T121500Z
DTEND:20260328T141500Z
DTSTAMP:20260420T100915Z
UID:6f893b16-8e8c-4258-b7ac-775f6e1ca54a
CREATED:20260420T100915Z
LAST-MODIFIED:20260420T100915Z
LOCATION:Hönggerberg, Zürich - R2
SEQUENCE:0
STATUS:CONFIRMED
CLASS:PRIVATE
SUMMARY:SV Höngg c - Junioren D7a
CATEGORIES:Fussball
TRANSP:OPAQUE
END:VEVENT
BEGIN:VEVENT
DTSTART:20260418T100000Z
DTEND:20260418T120000Z
DTSTAMP:20260420T100915Z
UID:73532f92-bc96-4b65-ac8a-866efe36e16d
CREATED:20260420T100915Z
LAST-MODIFIED:20260420T100915Z
LOCATION:Im Bilg, Embrach - Platz E
SEQUENCE:0
STATUS:CONFIRMED
CLASS:PRIVATE
SUMMARY:Junioren D7a - FC Männedorf b
CATEGORIES:Fussball
TRANSP:OPAQUE
END:VEVENT
BEGIN:VEVENT
DTSTART:20260509T090000Z
DTEND:20260509T110000Z
DTSTAMP:20260420T100915Z
UID:d68f6309-34c8-4c60-b878-67a95734d616
CREATED:20260420T100915Z
LAST-MODIFIED:20260420T100915Z
LOCATION:Im Bilg, Embrach - Platz E
SEQUENCE:0
STATUS:CONFIRMED
CLASS:PRIVATE
SUMMARY:Junioren D7a - Reiat United d
CATEGORIES:Fussball
TRANSP:OPAQUE
END:VEVENT
BEGIN:VEVENT
DTSTART:20260516T110000Z
DTEND:20260516T130000Z
DTSTAMP:20260420T100915Z
UID:35e3460a-e7dd-4a35-ae8f-64d18fd25a7e
CREATED:20260420T100915Z
LAST-MODIFIED:20260420T100915Z
LOCATION:Schulhaus Hinterbich, Bülach - Spielfeld Schulhaus Hinterbich
SEQUENCE:0
STATUS:CONFIRMED
CLASS:PRIVATE
SUMMARY:FC Bülach f - Junioren D7a
CATEGORIES:Fussball
TRANSP:OPAQUE
END:VEVENT
BEGIN:VEVENT
DTSTART:20260530T113000Z
DTEND:20260530T133000Z
DTSTAMP:20260420T100915Z
UID:46161c6d-d0a6-48f1-8f6f-04c6c8c274f0
CREATED:20260420T100915Z
LAST-MODIFIED:20260420T100915Z
LOCATION:Im Bilg, Embrach - Platz E
SEQUENCE:0
STATUS:CONFIRMED
CLASS:PRIVATE
SUMMARY:Junioren D7a - FC Effretikon d
CATEGORIES:Fussball
TRANSP:OPAQUE
END:VEVENT
BEGIN:VEVENT
DTSTART:20260606T120000Z
DTEND:20260606T140000Z
DTSTAMP:20260420T100915Z
UID:3e94326f-a08b-46bc-b9d6-dfefde3492d3
CREATED:20260420T100915Z
LAST-MODIFIED:20260420T100915Z
LOCATION:Schachenerbrücke, Glattfelden - Platz 2
SEQUENCE:0
STATUS:CONFIRMED
CLASS:PRIVATE
SUMMARY:FC Glattfelden c - Junioren D7a
CATEGORIES:Fussball
TRANSP:OPAQUE
END:VEVENT
BEGIN:VEVENT
DTSTART:20260617T160000Z
DTEND:20260617T180000Z
DTSTAMP:20260420T100915Z
UID:1d480802-9840-4e13-8933-b14357a24226
CREATED:20260420T100915Z
LAST-MODIFIED:20260420T100915Z
LOCATION:Stighag, Kloten - Platzzuteilung erfolgt vor Ort
SEQUENCE:0
STATUS:CONFIRMED
CLASS:PRIVATE
SUMMARY:FC Kloten b - Junioren D7a
CATEGORIES:Fussball
TRANSP:OPAQUE
END:VEVENT
END:VCALENDAR
