BEGIN:VCALENDAR
PRODID:FCEmbrachSpielplan
VERSION:2.0
METHOD:PUBLISH
CALNAME:SpieleFCE
BEGIN:VEVENT
DTSTART:20250823T120000Z
DTEND:20250823T140000Z
DTSTAMP:20260420T101040Z
UID:276b1bca-d140-4547-9521-dcd7d0370382
CREATED:20260420T101040Z
LAST-MODIFIED:20260420T101040Z
LOCATION:Im Bilg, Embrach - Platz E
SEQUENCE:0
STATUS:CONFIRMED
CLASS:PRIVATE
SUMMARY:Junioren D7b - SV Seebach ZH a
CATEGORIES:Fussball
TRANSP:OPAQUE
END:VEVENT
BEGIN:VEVENT
DTSTART:20250830T110000Z
DTEND:20250830T130000Z
DTSTAMP:20260420T101040Z
UID:131dd8b2-a360-43b2-b3a1-21a1baf55a1f
CREATED:20260420T101040Z
LAST-MODIFIED:20260420T101040Z
LOCATION:Witikon, Zürich - Platzzuteilung erfolgt vor Ort
SEQUENCE:0
STATUS:CONFIRMED
CLASS:PRIVATE
SUMMARY:FC Witikon f - Junioren D7b
CATEGORIES:Fussball
TRANSP:OPAQUE
END:VEVENT
BEGIN:VEVENT
DTSTART:20250906T123000Z
DTEND:20250906T143000Z
DTSTAMP:20260420T101040Z
UID:db430561-d3b4-4aff-aeb1-48b1312ebc43
CREATED:20260420T101040Z
LAST-MODIFIED:20260420T101040Z
LOCATION:Im Bilg, Embrach - Platz E
SEQUENCE:0
STATUS:CONFIRMED
CLASS:PRIVATE
SUMMARY:Junioren D7b - FC Schwerzenbach
CATEGORIES:Fussball
TRANSP:OPAQUE
END:VEVENT
BEGIN:VEVENT
DTSTART:20250913T080000Z
DTEND:20250913T100000Z
DTSTAMP:20260420T101040Z
UID:8e1bed16-613a-489d-bb90-60d080297958
CREATED:20260420T101040Z
LAST-MODIFIED:20260420T101040Z
LOCATION:Schulhaus Hinterbich, Bülach - Spielfeld Schulhaus Hinterbich
SEQUENCE:0
STATUS:CONFIRMED
CLASS:PRIVATE
SUMMARY:FC Bülach f - Junioren D7b
CATEGORIES:Fussball
TRANSP:OPAQUE
END:VEVENT
BEGIN:VEVENT
DTSTART:20250927T143000Z
DTEND:20250927T163000Z
DTSTAMP:20260420T101040Z
UID:b25a37f3-b9d4-465e-9cc7-ef908dd07679
CREATED:20260420T101040Z
LAST-MODIFIED:20260420T101040Z
LOCATION:Im Bilg, Embrach - Platz E
SEQUENCE:0
STATUS:CONFIRMED
CLASS:PRIVATE
SUMMARY:Junioren D7b - FC Dietikon b
CATEGORIES:Fussball
TRANSP:OPAQUE
END:VEVENT
BEGIN:VEVENT
DTSTART:20251022T163000Z
DTEND:20251022T183000Z
DTSTAMP:20260420T101040Z
UID:ddefed83-793e-4ca5-9ebd-dbb2dcf8adec
CREATED:20260420T101040Z
LAST-MODIFIED:20260420T101040Z
LOCATION:Neue Glattwis, Fällanden - Platz 2
SEQUENCE:0
STATUS:CONFIRMED
CLASS:PRIVATE
SUMMARY:FC Fällanden - Junioren D7b
CATEGORIES:Fussball
TRANSP:OPAQUE
END:VEVENT
BEGIN:VEVENT
DTSTART:20251101T120000Z
DTEND:20251101T140000Z
DTSTAMP:20260420T101040Z
UID:bb24e2cb-531d-4018-b97e-c13efca38474
CREATED:20260420T101040Z
LAST-MODIFIED:20260420T101040Z
LOCATION:Fronwald, Zürich - R4
SEQUENCE:0
STATUS:CONFIRMED
CLASS:PRIVATE
SUMMARY:FC Zürich-Affoltern b - Junioren D7b
CATEGORIES:Fussball
TRANSP:OPAQUE
END:VEVENT
BEGIN:VEVENT
DTSTART:20251108T140000Z
DTEND:20251108T160000Z
DTSTAMP:20260420T101040Z
UID:839f0f46-89b0-4460-b98e-cedea9808ef0
CREATED:20260420T101040Z
LAST-MODIFIED:20260420T101040Z
LOCATION:Im Bilg, Embrach - Platz E
SEQUENCE:0
STATUS:CONFIRMED
CLASS:PRIVATE
SUMMARY:Junioren D7b - FC Wallisellen
CATEGORIES:Fussball
TRANSP:OPAQUE
END:VEVENT
BEGIN:VEVENT
DTSTART:20251115T110000Z
DTEND:20251115T130000Z
DTSTAMP:20260420T101040Z
UID:37362091-3c16-489c-8f2b-14a21651043d
CREATED:20260420T101040Z
LAST-MODIFIED:20260420T101040Z
LOCATION:Im Bilg, Embrach - Platz E
SEQUENCE:0
STATUS:CONFIRMED
CLASS:PRIVATE
SUMMARY:Junioren D7b - FC Dielsdorf c
CATEGORIES:Fussball
TRANSP:OPAQUE
END:VEVENT
BEGIN:VEVENT
DTSTART:20260321T110000Z
DTEND:20260321T130000Z
DTSTAMP:20260420T101040Z
UID:b262e553-0965-4efe-aaa0-089514a8c481
CREATED:20260420T101040Z
LAST-MODIFIED:20260420T101040Z
LOCATION:Im Bilg, Embrach - Platz E
SEQUENCE:0
STATUS:CONFIRMED
CLASS:PRIVATE
SUMMARY:Junioren D7b - FC Seuzach b
CATEGORIES:Fussball
TRANSP:OPAQUE
END:VEVENT
BEGIN:VEVENT
DTSTART:20260328T100000Z
DTEND:20260328T120000Z
DTSTAMP:20260420T101040Z
UID:4045da36-f7ec-46d8-a1db-f321c0d7e3e4
CREATED:20260420T101040Z
LAST-MODIFIED:20260420T101040Z
LOCATION:Reitplatz, Winterthur - Platzzuteilung erfolgt vor Ort
SEQUENCE:0
STATUS:CONFIRMED
CLASS:PRIVATE
SUMMARY:FC Töss - Junioren D7b
CATEGORIES:Fussball
TRANSP:OPAQUE
END:VEVENT
BEGIN:VEVENT
DTSTART:20260411T113000Z
DTEND:20260411T133000Z
DTSTAMP:20260420T101040Z
UID:c8ffd0a7-70ef-4d48-aa9a-f908d036bebd
CREATED:20260420T101040Z
LAST-MODIFIED:20260420T101040Z
LOCATION:Im Bilg, Embrach - Platz E
SEQUENCE:0
STATUS:CONFIRMED
CLASS:PRIVATE
SUMMARY:Junioren D7b - FC Wiesendangen a
CATEGORIES:Fussball
TRANSP:OPAQUE
END:VEVENT
BEGIN:VEVENT
DTSTART:20260506T163000Z
DTEND:20260506T183000Z
DTSTAMP:20260420T101040Z
UID:e00f17ca-b965-482f-88a7-a7157add377f
CREATED:20260420T101040Z
LAST-MODIFIED:20260420T101040Z
LOCATION:Im Bilg, Embrach - Platz E
SEQUENCE:0
STATUS:CONFIRMED
CLASS:PRIVATE
SUMMARY:Junioren D7b - FC Wülflingen d
CATEGORIES:Fussball
TRANSP:OPAQUE
END:VEVENT
BEGIN:VEVENT
DTSTART:20260509T090000Z
DTEND:20260509T110000Z
DTSTAMP:20260420T101040Z
UID:82e00009-2111-47aa-adcd-41b2b54eee47
CREATED:20260420T101040Z
LAST-MODIFIED:20260420T101040Z
LOCATION:Talgut, Winterthur - Platz 2 / Hörnlistr. 31 (KR)
SEQUENCE:0
STATUS:CONFIRMED
CLASS:PRIVATE
SUMMARY:FC Tössfeld a - Junioren D7b
CATEGORIES:Fussball
TRANSP:OPAQUE
END:VEVENT
BEGIN:VEVENT
DTSTART:20260516T100000Z
DTEND:20260516T120000Z
DTSTAMP:20260420T101040Z
UID:3346a4f4-16fa-44c5-bb40-e6f58689b99d
CREATED:20260420T101040Z
LAST-MODIFIED:20260420T101040Z
LOCATION:Im Bilg, Embrach - Platz E
SEQUENCE:0
STATUS:CONFIRMED
CLASS:PRIVATE
SUMMARY:Junioren D7b - Sporting Club Schaffhausen a
CATEGORIES:Fussball
TRANSP:OPAQUE
END:VEVENT
BEGIN:VEVENT
DTSTART:20260530T120000Z
DTEND:20260530T140000Z
DTSTAMP:20260420T101040Z
UID:cf027162-c4c3-44ba-81dd-4a0c484ce3c3
CREATED:20260420T101040Z
LAST-MODIFIED:20260420T101040Z
LOCATION:Stockwiesen, Thayngen - Platz 1
SEQUENCE:0
STATUS:CONFIRMED
CLASS:PRIVATE
SUMMARY:Reiat United c - Junioren D7b
CATEGORIES:Fussball
TRANSP:OPAQUE
END:VEVENT
BEGIN:VEVENT
DTSTART:20260620T100000Z
DTEND:20260620T120000Z
DTSTAMP:20260420T101040Z
UID:4523d15a-3778-449f-8b06-98afcff409f9
CREATED:20260420T101040Z
LAST-MODIFIED:20260420T101040Z
LOCATION:Bühl, Schaffhausen - Bühl 1 (Kunstrasen)
SEQUENCE:0
STATUS:CONFIRMED
CLASS:PRIVATE
SUMMARY:SV Schaffhausen e - Junioren D7b
CATEGORIES:Fussball
TRANSP:OPAQUE
END:VEVENT
END:VCALENDAR
