BEGIN:VCALENDAR
PRODID:FCEmbrachSpielplan
VERSION:2.0
METHOD:PUBLISH
CALNAME:SpieleFCE
BEGIN:VEVENT
DTSTART:20250820T170000Z
DTEND:20250820T190000Z
DTSTAMP:20260420T101105Z
UID:1b181f47-656b-4b54-b612-14ff9d33b39f
CREATED:20260420T101105Z
LAST-MODIFIED:20260420T101105Z
LOCATION:Bahnhof/Eichen, Hüntwangen - Bahnhof
SEQUENCE:0
STATUS:CONFIRMED
CLASS:PRIVATE
SUMMARY:FC Rafzerfeld b - Junioren D9c
CATEGORIES:Fussball
TRANSP:OPAQUE
END:VEVENT
BEGIN:VEVENT
DTSTART:20250823T093000Z
DTEND:20250823T113000Z
DTSTAMP:20260420T101105Z
UID:c83704f7-6f9e-4eb8-b03a-1e33b63efe94
CREATED:20260420T101105Z
LAST-MODIFIED:20260420T101105Z
LOCATION:Erlen, Dielsdorf - Platz 1
SEQUENCE:0
STATUS:CONFIRMED
CLASS:PRIVATE
SUMMARY:FC Dielsdorf a - Junioren D9c
CATEGORIES:Fussball
TRANSP:OPAQUE
END:VEVENT
BEGIN:VEVENT
DTSTART:20250830T103000Z
DTEND:20250830T123000Z
DTSTAMP:20260420T101105Z
UID:7a67473f-2a21-4fdf-8244-5ff80e93172f
CREATED:20260420T101105Z
LAST-MODIFIED:20260420T101105Z
LOCATION:Im Bilg, Embrach - Platz 2
SEQUENCE:0
STATUS:CONFIRMED
CLASS:PRIVATE
SUMMARY:Junioren D9c - FC Wallisellen b
CATEGORIES:Fussball
TRANSP:OPAQUE
END:VEVENT
BEGIN:VEVENT
DTSTART:20250906T100000Z
DTEND:20250906T120000Z
DTSTAMP:20260420T101105Z
UID:667f351f-2874-44e0-9353-e8b0add04ab1
CREATED:20260420T101105Z
LAST-MODIFIED:20260420T101105Z
LOCATION:Im Heuel, Rümlang - Platz 2
SEQUENCE:0
STATUS:CONFIRMED
CLASS:PRIVATE
SUMMARY:SV Rümlang b - Junioren D9c
CATEGORIES:Fussball
TRANSP:OPAQUE
END:VEVENT
BEGIN:VEVENT
DTSTART:20250913T103000Z
DTEND:20250913T123000Z
DTSTAMP:20260420T101105Z
UID:dee061c7-c1cb-4f59-8077-f985e262aad1
CREATED:20260420T101105Z
LAST-MODIFIED:20260420T101105Z
LOCATION:Im Bilg, Embrach - Platz 2
SEQUENCE:0
STATUS:CONFIRMED
CLASS:PRIVATE
SUMMARY:Junioren D9c - FC Oerlikon/Polizei ZH g
CATEGORIES:Fussball
TRANSP:OPAQUE
END:VEVENT
BEGIN:VEVENT
DTSTART:20250917T170000Z
DTEND:20250917T190000Z
DTSTAMP:20260420T101105Z
UID:872b90cc-14b1-4b0f-8ba3-9f9cb7b66de9
CREATED:20260420T101105Z
LAST-MODIFIED:20260420T101105Z
LOCATION:Im Bilg, Embrach - Platz 1
SEQUENCE:0
STATUS:CONFIRMED
CLASS:PRIVATE
SUMMARY:Junioren D9c - FC Niederweningen b
CATEGORIES:Fussball
TRANSP:OPAQUE
END:VEVENT
BEGIN:VEVENT
DTSTART:20250927T090000Z
DTEND:20250927T110000Z
DTSTAMP:20260420T101105Z
UID:73baa4c7-6ea9-4aac-ada0-a09a0ed03293
CREATED:20260420T101105Z
LAST-MODIFIED:20260420T101105Z
LOCATION:Im Bilg, Embrach - Platz 2
SEQUENCE:0
STATUS:CONFIRMED
CLASS:PRIVATE
SUMMARY:Junioren D9c - FC Regensdorf e
CATEGORIES:Fussball
TRANSP:OPAQUE
END:VEVENT
BEGIN:VEVENT
DTSTART:20251025T073000Z
DTEND:20251025T093000Z
DTSTAMP:20260420T101105Z
UID:f0be3c37-ac8c-46e1-8a77-5979da995909
CREATED:20260420T101105Z
LAST-MODIFIED:20260420T101105Z
LOCATION:Bahnhof/Eichen, Hüntwangen - Eichen
SEQUENCE:0
STATUS:CONFIRMED
CLASS:PRIVATE
SUMMARY:FC Rafzerfeld b - Junioren D9c
CATEGORIES:Fussball
TRANSP:OPAQUE
END:VEVENT
BEGIN:VEVENT
DTSTART:20251108T100000Z
DTEND:20251108T120000Z
DTSTAMP:20260420T101105Z
UID:79f8f459-72ac-4441-aa1d-ad027cf7252d
CREATED:20260420T101105Z
LAST-MODIFIED:20260420T101105Z
LOCATION:Im Bilg, Embrach - Platz 2
SEQUENCE:0
STATUS:CONFIRMED
CLASS:PRIVATE
SUMMARY:Junioren D9c - FC Glattfelden b
CATEGORIES:Fussball
TRANSP:OPAQUE
END:VEVENT
BEGIN:VEVENT
DTSTART:20260301T111500Z
DTEND:20260301T131500Z
DTSTAMP:20260420T101105Z
UID:8dc69f2e-6e8c-4122-af2c-dc8d010567d1
CREATED:20260420T101105Z
LAST-MODIFIED:20260420T101105Z
LOCATION:Im Bilg, Embrach - Platz 3 Kunstrasen
SEQUENCE:0
STATUS:CONFIRMED
CLASS:PRIVATE
SUMMARY:Junioren D9c - BC Albisrieden c
CATEGORIES:Fussball
TRANSP:OPAQUE
END:VEVENT
BEGIN:VEVENT
DTSTART:20260321T080000Z
DTEND:20260321T100000Z
DTSTAMP:20260420T101105Z
UID:c2a57ffd-9947-4c70-a52b-e6fcf54fe969
CREATED:20260420T101105Z
LAST-MODIFIED:20260420T101105Z
LOCATION:Im Bilg, Embrach - Platz 3 Kunstrasen
SEQUENCE:0
STATUS:CONFIRMED
CLASS:PRIVATE
SUMMARY:Junioren D9c - FC Neftenbach b
CATEGORIES:Fussball
TRANSP:OPAQUE
END:VEVENT
BEGIN:VEVENT
DTSTART:20260329T101500Z
DTEND:20260329T121500Z
DTSTAMP:20260420T101105Z
UID:d9055bf9-f5e9-492b-84ab-e8931255ceb3
CREATED:20260420T101105Z
LAST-MODIFIED:20260420T101105Z
LOCATION:Im Bilg, Embrach - Platz 2
SEQUENCE:0
STATUS:CONFIRMED
CLASS:PRIVATE
SUMMARY:Junioren D9c - FC Effretikon b
CATEGORIES:Fussball
TRANSP:OPAQUE
END:VEVENT
BEGIN:VEVENT
DTSTART:20260411T120000Z
DTEND:20260411T140000Z
DTSTAMP:20260420T101105Z
UID:506b7a82-839b-491d-ae66-65733083ff5c
CREATED:20260420T101105Z
LAST-MODIFIED:20260420T101105Z
LOCATION:Im Bilg, Embrach - Platz 3 Kunstrasen
SEQUENCE:0
STATUS:CONFIRMED
CLASS:PRIVATE
SUMMARY:Junioren D9c - FC Kempttal b
CATEGORIES:Fussball
TRANSP:OPAQUE
END:VEVENT
BEGIN:VEVENT
DTSTART:20260509T103000Z
DTEND:20260509T123000Z
DTSTAMP:20260420T101105Z
UID:f50d2f47-2365-41d3-8930-b4b9c8a1b60d
CREATED:20260420T101105Z
LAST-MODIFIED:20260420T101105Z
LOCATION:Erlen, Dielsdorf - Platz 2
SEQUENCE:0
STATUS:CONFIRMED
CLASS:PRIVATE
SUMMARY:FC Dielsdorf d - Junioren D9c
CATEGORIES:Fussball
TRANSP:OPAQUE
END:VEVENT
BEGIN:VEVENT
DTSTART:20260516T070000Z
DTEND:20260516T090000Z
DTSTAMP:20260420T101105Z
UID:bb0d19b5-f2ef-4cfd-8877-6790cdeb4693
CREATED:20260420T101105Z
LAST-MODIFIED:20260420T101105Z
LOCATION:Im Bilg, Embrach - Platz 3 Kunstrasen
SEQUENCE:0
STATUS:CONFIRMED
CLASS:PRIVATE
SUMMARY:Junioren D9c - FC Kloten b
CATEGORIES:Fussball
TRANSP:OPAQUE
END:VEVENT
BEGIN:VEVENT
DTSTART:20260519T220000Z
DTEND:20260520T000000Z
DTSTAMP:20260420T101105Z
UID:3bb5b286-490a-489b-87da-0d951858899b
CREATED:20260420T101105Z
LAST-MODIFIED:20260420T101105Z
LOCATION:Im Bilg, Embrach - Platz 2
SEQUENCE:0
STATUS:CONFIRMED
CLASS:PRIVATE
SUMMARY:Junioren D9c - FC Männedorf d
CATEGORIES:Fussball
TRANSP:OPAQUE
END:VEVENT
BEGIN:VEVENT
DTSTART:20260530T101500Z
DTEND:20260530T121500Z
DTSTAMP:20260420T101105Z
UID:7c090031-4a8f-4801-97d2-26b1c91d4dba
CREATED:20260420T101105Z
LAST-MODIFIED:20260420T101105Z
LOCATION:Griespark, Volketswil - Gries 3 (Kunstrasen)
SEQUENCE:0
STATUS:CONFIRMED
CLASS:PRIVATE
SUMMARY:FC Volketswil d - Junioren D9c
CATEGORIES:Fussball
TRANSP:OPAQUE
END:VEVENT
BEGIN:VEVENT
DTSTART:20260620T080000Z
DTEND:20260620T100000Z
DTSTAMP:20260420T101105Z
UID:0c03f426-94f3-4a4e-8999-39218c403a42
CREATED:20260420T101105Z
LAST-MODIFIED:20260420T101105Z
LOCATION:Sportanlage Au, Opfikon-Glattbrugg - Platz 2 (Kunstrasen)
SEQUENCE:0
STATUS:CONFIRMED
CLASS:PRIVATE
SUMMARY:FC Glattbrugg c - Junioren D9c
CATEGORIES:Fussball
TRANSP:OPAQUE
END:VEVENT
END:VCALENDAR
