BEGIN:VCALENDAR
PRODID:FCEmbrachSpielplan
VERSION:2.0
METHOD:PUBLISH
CALNAME:SpieleFCE
BEGIN:VEVENT
DTSTART:20260321T083000Z
DTEND:20260321T103000Z
DTSTAMP:20260420T083909Z
UID:ee6c81dc-8c55-4378-a4c2-eb7ca7521187
CREATED:20260420T083909Z
LAST-MODIFIED:20260420T083909Z
LOCATION:Im Bilg, Embrach - Platz E
SEQUENCE:0
STATUS:CONFIRMED
CLASS:PRIVATE
SUMMARY:Juniorinnen D7 - FC Tössfeld
CATEGORIES:Fussball
TRANSP:OPAQUE
END:VEVENT
BEGIN:VEVENT
DTSTART:20260325T180000Z
DTEND:20260325T200000Z
DTSTAMP:20260420T083909Z
UID:492225ff-d098-40be-bd2d-4ac09e81ed28
CREATED:20260420T083909Z
LAST-MODIFIED:20260420T083909Z
LOCATION:Im Bilg, Embrach - Platz E
SEQUENCE:0
STATUS:CONFIRMED
CLASS:PRIVATE
SUMMARY:Juniorinnen D7 - FC Männedorf b
CATEGORIES:Fussball
TRANSP:OPAQUE
END:VEVENT
BEGIN:VEVENT
DTSTART:20260328T153000Z
DTEND:20260328T173000Z
DTSTAMP:20260420T083909Z
UID:89373b44-1601-4050-a5f4-62ba500f1146
CREATED:20260420T083909Z
LAST-MODIFIED:20260420T083909Z
LOCATION:Barzloo, Pfäffikon - Platzzuteilung erfolgt vor Ort
SEQUENCE:0
STATUS:CONFIRMED
CLASS:PRIVATE
SUMMARY:FC Pfäffikon - Juniorinnen D7
CATEGORIES:Fussball
TRANSP:OPAQUE
END:VEVENT
BEGIN:VEVENT
DTSTART:20260411T080000Z
DTEND:20260411T100000Z
DTSTAMP:20260420T083909Z
UID:c9c04286-5894-42e1-9736-f2bcc8041ee6
CREATED:20260420T083909Z
LAST-MODIFIED:20260420T083909Z
LOCATION:Im Bilg, Embrach - Platz E
SEQUENCE:0
STATUS:CONFIRMED
CLASS:PRIVATE
SUMMARY:Juniorinnen D7 - FC Küsnacht d
CATEGORIES:Fussball
TRANSP:OPAQUE
END:VEVENT
BEGIN:VEVENT
DTSTART:20260516T073000Z
DTEND:20260516T093000Z
DTSTAMP:20260420T083909Z
UID:61ac81ab-d2b8-4603-8158-97b91929f93a
CREATED:20260420T083909Z
LAST-MODIFIED:20260420T083909Z
LOCATION:Im Bilg, Embrach - Platz E
SEQUENCE:0
STATUS:CONFIRMED
CLASS:PRIVATE
SUMMARY:Juniorinnen D7 - FC Egg
CATEGORIES:Fussball
TRANSP:OPAQUE
END:VEVENT
BEGIN:VEVENT
DTSTART:20260518T160000Z
DTEND:20260518T180000Z
DTSTAMP:20260420T083909Z
UID:3864fa4c-7c99-4d5c-8fa1-3dff45a7637a
CREATED:20260420T083909Z
LAST-MODIFIED:20260420T083909Z
LOCATION:Raiffeisen Weinland Arena , Marthalen - Platz 1
SEQUENCE:0
STATUS:CONFIRMED
CLASS:PRIVATE
SUMMARY:FC Ellikon Marthalen - Juniorinnen D7
CATEGORIES:Fussball
TRANSP:OPAQUE
END:VEVENT
BEGIN:VEVENT
DTSTART:20260530T070000Z
DTEND:20260530T090000Z
DTSTAMP:20260420T083909Z
UID:6588fbb1-e8b4-4258-8980-f5417aedf55a
CREATED:20260420T083909Z
LAST-MODIFIED:20260420T083909Z
LOCATION:Neue Glattwis, Fällanden - Platz 2
SEQUENCE:0
STATUS:CONFIRMED
CLASS:PRIVATE
SUMMARY:Team Fällanden - Schwerzenbach b - Juniorinnen D7
CATEGORIES:Fussball
TRANSP:OPAQUE
END:VEVENT
BEGIN:VEVENT
DTSTART:20260620T103000Z
DTEND:20260620T123000Z
DTSTAMP:20260420T083909Z
UID:4c60e351-4044-4cee-80fd-75b425bc6f9a
CREATED:20260420T083909Z
LAST-MODIFIED:20260420T083909Z
LOCATION:Laupenstrasse, Wald - Platzzuteilung erfolgt vor Ort
SEQUENCE:0
STATUS:CONFIRMED
CLASS:PRIVATE
SUMMARY:FC Wald - Juniorinnen D7
CATEGORIES:Fussball
TRANSP:OPAQUE
END:VEVENT
END:VCALENDAR
