BEGIN:VCALENDAR
PRODID:FCEmbrachSpielplan
VERSION:2.0
METHOD:PUBLISH
CALNAME:SpieleFCE
BEGIN:VEVENT
DTSTART:20250829T180000Z
DTEND:20250829T200000Z
DTSTAMP:20260422T085431Z
UID:8aebb562-5389-4b27-94cf-2f4c67b7b111
CREATED:20260422T085431Z
LAST-MODIFIED:20260422T085431Z
LOCATION:Im Bilg, Embrach - Platz E
SEQUENCE:0
STATUS:CONFIRMED
CLASS:PRIVATE
SUMMARY:Senioren 50+ - Team Effretikon/Kempttal
CATEGORIES:Fussball
TRANSP:OPAQUE
END:VEVENT
BEGIN:VEVENT
DTSTART:20250905T180000Z
DTEND:20250905T200000Z
DTSTAMP:20260422T085431Z
UID:a67c565c-ce24-490e-b2d6-4e73af3aa318
CREATED:20260422T085431Z
LAST-MODIFIED:20260422T085431Z
LOCATION:Fronwald, Zürich - R4
SEQUENCE:0
STATUS:CONFIRMED
CLASS:PRIVATE
SUMMARY:FC Zürich-Affoltern - Senioren 50+
CATEGORIES:Fussball
TRANSP:OPAQUE
END:VEVENT
BEGIN:VEVENT
DTSTART:20250912T180000Z
DTEND:20250912T200000Z
DTSTAMP:20260422T085431Z
UID:bd15908b-d2ce-4499-85b9-7316676dbd84
CREATED:20260422T085431Z
LAST-MODIFIED:20260422T085431Z
LOCATION:Im Bilg, Embrach - Platz E
SEQUENCE:0
STATUS:CONFIRMED
CLASS:PRIVATE
SUMMARY:Senioren 50+ - FC Wallisellen
CATEGORIES:Fussball
TRANSP:OPAQUE
END:VEVENT
BEGIN:VEVENT
DTSTART:20250926T180000Z
DTEND:20250926T200000Z
DTSTAMP:20260422T085431Z
UID:d1e55bd9-6cbc-4395-b977-370bfcc31609
CREATED:20260422T085431Z
LAST-MODIFIED:20260422T085431Z
LOCATION:Im Bilg, Embrach - Platz E
SEQUENCE:0
STATUS:CONFIRMED
CLASS:PRIVATE
SUMMARY:Senioren 50+ - SC Hegi – SC Post Winterthur
CATEGORIES:Fussball
TRANSP:OPAQUE
END:VEVENT
BEGIN:VEVENT
DTSTART:20251020T181500Z
DTEND:20251020T201500Z
DTSTAMP:20260422T085431Z
UID:0e25610f-51f9-42e5-9e9b-8bb8facf8304
CREATED:20260422T085431Z
LAST-MODIFIED:20260422T085431Z
LOCATION:Stighag, Kloten - Platzzuteilung erfolgt vor Ort
SEQUENCE:0
STATUS:CONFIRMED
CLASS:PRIVATE
SUMMARY:FC Kloten b - Senioren 50+
CATEGORIES:Fussball
TRANSP:OPAQUE
END:VEVENT
BEGIN:VEVENT
DTSTART:20251031T190000Z
DTEND:20251031T210000Z
DTSTAMP:20260422T085431Z
UID:00d2f8b9-c5ca-4027-ab97-16a596fc7e07
CREATED:20260422T085431Z
LAST-MODIFIED:20260422T085431Z
LOCATION:Im Bilg, Embrach - Platz E
SEQUENCE:0
STATUS:CONFIRMED
CLASS:PRIVATE
SUMMARY:Senioren 50+ - SV Rümlang
CATEGORIES:Fussball
TRANSP:OPAQUE
END:VEVENT
BEGIN:VEVENT
DTSTART:20251107T190000Z
DTEND:20251107T210000Z
DTSTAMP:20260422T085431Z
UID:84e817e2-0657-48ca-a68f-7c0c6e7c3489
CREATED:20260422T085431Z
LAST-MODIFIED:20260422T085431Z
LOCATION:Rolli, Seuzach - Platzzuteilung erfolgt vor Ort
SEQUENCE:0
STATUS:CONFIRMED
CLASS:PRIVATE
SUMMARY:FC Seuzach - Senioren 50+
CATEGORIES:Fussball
TRANSP:OPAQUE
END:VEVENT
BEGIN:VEVENT
DTSTART:20260327T190000Z
DTEND:20260327T210000Z
DTSTAMP:20260422T085431Z
UID:4536459e-9e1a-4a38-b3e8-a26e9208379b
CREATED:20260422T085431Z
LAST-MODIFIED:20260422T085431Z
LOCATION:Griespark, Volketswil - Gries 3 (Kunstrasen)
SEQUENCE:0
STATUS:CONFIRMED
CLASS:PRIVATE
SUMMARY:FC Volketswil - Senioren 50+
CATEGORIES:Fussball
TRANSP:OPAQUE
END:VEVENT
BEGIN:VEVENT
DTSTART:20260410T180000Z
DTEND:20260410T200000Z
DTSTAMP:20260422T085431Z
UID:3e158acb-dd3a-4deb-8190-58ca09970332
CREATED:20260422T085431Z
LAST-MODIFIED:20260422T085431Z
LOCATION:Im Bilg, Embrach - Platz E
SEQUENCE:0
STATUS:CONFIRMED
CLASS:PRIVATE
SUMMARY:Senioren 50+ - FC Greifensee
CATEGORIES:Fussball
TRANSP:OPAQUE
END:VEVENT
BEGIN:VEVENT
DTSTART:20260424T181500Z
DTEND:20260424T201500Z
DTSTAMP:20260422T085431Z
UID:e57c8c55-0b69-4327-92a9-99b1d8e493fb
CREATED:20260422T085431Z
LAST-MODIFIED:20260422T085431Z
LOCATION:Mettlen, Weisslingen - Platz 1
SEQUENCE:0
STATUS:CONFIRMED
CLASS:PRIVATE
SUMMARY:Team Fehraltorf/Russikon/Wislig - Senioren 50+
CATEGORIES:Fussball
TRANSP:OPAQUE
END:VEVENT
BEGIN:VEVENT
DTSTART:20260521T183000Z
DTEND:20260521T203000Z
DTSTAMP:20260422T085431Z
UID:f6d84f4a-bcd2-4616-a6a7-2370ecf21dd5
CREATED:20260422T085431Z
LAST-MODIFIED:20260422T085431Z
LOCATION:Talwiesen, Winterthur - Platz 1
SEQUENCE:0
STATUS:CONFIRMED
CLASS:PRIVATE
SUMMARY:SC Hegi – SC Post Winterthur - Senioren 50+
CATEGORIES:Fussball
TRANSP:OPAQUE
END:VEVENT
BEGIN:VEVENT
DTSTART:20260529T180000Z
DTEND:20260529T200000Z
DTSTAMP:20260422T085431Z
UID:fe9a4a4e-42be-472d-b3aa-a7c54211bb8d
CREATED:20260422T085431Z
LAST-MODIFIED:20260422T085431Z
LOCATION:Im Bilg, Embrach - Platz E
SEQUENCE:0
STATUS:CONFIRMED
CLASS:PRIVATE
SUMMARY:Senioren 50+ - FC Kloten b
CATEGORIES:Fussball
TRANSP:OPAQUE
END:VEVENT
BEGIN:VEVENT
DTSTART:20260605T180000Z
DTEND:20260605T200000Z
DTSTAMP:20260422T085431Z
UID:d7931b4a-5177-4f6d-8310-64ebb33729a8
CREATED:20260422T085431Z
LAST-MODIFIED:20260422T085431Z
LOCATION:Im Bilg, Embrach - Platz E
SEQUENCE:0
STATUS:CONFIRMED
CLASS:PRIVATE
SUMMARY:Senioren 50+ - FC Uster
CATEGORIES:Fussball
TRANSP:OPAQUE
END:VEVENT
BEGIN:VEVENT
DTSTART:20260608T180000Z
DTEND:20260608T200000Z
DTSTAMP:20260422T085431Z
UID:d3b6a4af-9a1c-4740-b7e1-044ba615a124
CREATED:20260422T085431Z
LAST-MODIFIED:20260422T085431Z
LOCATION:Rolli, Seuzach - Platzzuteilung erfolgt vor Ort
SEQUENCE:0
STATUS:CONFIRMED
CLASS:PRIVATE
SUMMARY:FC Seuzach - Senioren 50+
CATEGORIES:Fussball
TRANSP:OPAQUE
END:VEVENT
BEGIN:VEVENT
DTSTART:20260619T180000Z
DTEND:20260619T200000Z
DTSTAMP:20260422T085431Z
UID:99449eb6-cb44-4385-a715-9d04494b64a4
CREATED:20260422T085431Z
LAST-MODIFIED:20260422T085431Z
LOCATION:Im Bilg, Embrach - Platz E
SEQUENCE:0
STATUS:CONFIRMED
CLASS:PRIVATE
SUMMARY:Senioren 50+ - Team Effretikon/Kempttal
CATEGORIES:Fussball
TRANSP:OPAQUE
END:VEVENT
END:VCALENDAR
